BEGIN:VCALENDAR
VERSION:2.0
PRODID:icalendar-ruby
CALSCALE:GREGORIAN
METHOD:PUBLISH
BEGIN:VEVENT
DTSTAMP:20260421T212154Z
UID:78-226467@amcog.org
DTSTART:20260606T120000Z
DTEND:20260606T210000Z
CLASS:PUBLIC
CREATED:20260331T134818
DESCRIPTION:We invite you to join us on a excursion to Cumberland County Pl
 ayhouse to see the play Walking Across Egypt. Our plans are to meet at the
  church at 8:00 on Saturday morning to head to Crossville to see the play.
  Afterwards\, we will stop on the way home for a late lunch/early dinner. 
 Cost for tickets to the play is $33.00 per person\, due by May 17th (cost 
 of meal is NOT included in the price of the ticket). We hope to see you th
 ere!\nBrief introduction of play: In this heartwarming southern comedy\, M
 attie Rigsbee discovers a stray dog on her back porch\, but decides she’
 s too old to keep a pet and calls the dogcatcher. Little does she know tha
 t the dogcatcher will open her eyes to a whole world she never knew existe
 d\, a world that includes car theft\, prison breaks and a juvenile delinqu
 ent named Wesley who is as desperate for a family as she is. Armed with on
 ly her mouthwatering corn bread and a deep abiding faith in the Almighty\,
  Mattie is determined to woo Wesley to the side of God and good Southern m
 anners … if she can just manage to stay out of jail herself.
LAST-MODIFIED:20260331T134818
LOCATION:Cumberland County Playhouse\, 221 Tennessee Avenue\, Crossville\, 
 TN 38555
SUMMARY:Senior Ministries Cumberland County Playhouse
URL;VALUE=URI:https://amcog.org/events/senior-ministries-cumberland-county-
 playhouse/2026-06-06
ATTACH;FILENAME=Senior-Ministries-Play-sites-1500-x-784-px.png;FMTTYPE=imag
 e/png:https://dq5pwpg1q8ru0.cloudfront.net/2026/03/31/17/48/17/70050560-f7
 ef-41ce-be7c-d9cf0d16360b/Senior-Ministries-Play-sites-1500-x-784-px.png
END:VEVENT
END:VCALENDAR
