BEGIN:VCALENDAR
VERSION:2.0
PRODID:icalendar-ruby
CALSCALE:GREGORIAN
METHOD:PUBLISH
BEGIN:VEVENT
DTSTAMP:20260421T211701Z
UID:76-221813@amcog.org
DTSTART:20260516T153000Z
DTEND:20260516T190000Z
CLASS:PUBLIC
CREATED:20260326T124313
DESCRIPTION:We invite you to a potluck picnic with fellowship - fun - food 
 at our very own pavilion. Sign up by May 13 to let us know you're coming a
 nd what you plan to bring.
LAST-MODIFIED:20260326T124313
LOCATION:2615 E Lamar Alexander Parkway\, Maryville\, Tennessee 37804-3548
SUMMARY:Senior Ministries Picnic
URL;VALUE=URI:https://amcog.org/events/senior-ministries-picnic/2026-05-16
ATTACH;FILENAME=Senior-Picnic-sites-1500-x-784-px-1.png;FMTTYPE=image/png:h
 ttps://dq5pwpg1q8ru0.cloudfront.net/2026/03/26/16/42/25/958e9c38-410e-4718
 -85a5-6fbb110778d4/Senior-Picnic-sites-1500-x-784-px-1.png
END:VEVENT
END:VCALENDAR
